Workbook

Sheet PETUNJUK
B2: Petunjuk Pemakaian
B4: 1. | C4: Isilah data Guru/Kepala Sekolah/ Pengawas dengan baik dan benar, pada sheet DATA .
B5: 2. | C5: Dalam Penulisan NIP, NUPTK , NO HP dan sejenisnya tulis terlebih dahulu tanda petik ( ' ) contoh : '1958... ....
B6: 3. | C6: Input nilai hanya dengan " V " sesuai dengan hasil penilaian.
B7: 4. | C7: Sheet PELAKSANAAN PENILAIAN terdiri dari 2 halaman dengan skala 75 %.
B8: 5. | C8: Setelah menulis nama guru, Rekamlah ( Save as ) dengan nama guru yang di nilai, untuk mempermudah penyimpanan file.
B9: 6. | C9: Semoga bermanfaat. Drs. Mulyadi Pengawas SMP Disdikpora Kab. Karawang.

Sheet DATA
B2: BIO DATA
B4: TAHUN PELAJARAN 2022/ 2023
B5: NAMA SEKOLAH | E5: :
B6: NAMA GURU | E6: :
B7: NIP | E7: :
B8: HARI, TANGGAL | E8: :
B9: NAMA KEPALA SEKOLAH | E9: :
B10: NIP | E10: :
B11: NAMA PENGAWAS | E11: :
B12: NIP | E12: :
B13: KECAMATAN | E13: :
B14: TITIMANGSA | E14: :

Sheet PELAKSANAAN PENILAIAN
B8: SUPERVISI PELAKSANAAN PENILAIAN
B9: =DATA!B4 -> TAHUN PELAJARAN 2022/ 2023
B12: NAMA SEKOLAH | E12: :
B14: NAMA GURU | E14: :
B16: NIP | E16: :
B18: HARI, TANGGAL | E18: :
D20: Isilah dengan tanda V pada kolom Kondisi sesuai dengan penilaian
B21: NO | C21: BUTIR SUPERVISI | G21: KONDISI | K21: SKOR
G22: 0 | H22: 1 | I22: 2 | J22: 3
B23: A. | C23: Penilaian oleh guru
B24: 1 | C24: Penilaian kompetensi sikap
C25: 1 | D25: Terlaksananya penilaian sikap selama proses pembelajaran dengan teknik observasi dan jurnal.
C26: 2 | D26: Instrumen penilaian sikap yang digunakan sesuai dengan kaidah
C27: 3 | D27: Terdokumentasikannya hasil penilaian kompetensi sikap.
B28: 2 | C28: Penilaian kognitif
C29: 4 | D29: Terlaksananya penilaian dengan tes lisan, tes tulis, dan penugasan
C30: 5 | D30: Instrumen penilaian yang digunakan sesuai dengan kaidah
C31: 6 | D31: Tersedia rubrik penilaian untuk masing-masing instrumen
C32: 7 | D32: Terdokumentasikannya hasil penilaian
B33: 3 | C33: Penilaian Praktik | K33: =SUM(K34:K37)/12*100 -> 0
C34: 8 | D34: Terlaksananya penilaian dengan praktik, projek, dan portofolio
C35: 9 | D35: Instrumen penilaian yang digunakan sesuai dengan kaidah
C36: 10 | D36: Tersedia rubrik penilaian untuk masing-masing instrumen
C37: 11 | D37: Terdokumentasikannya hasil penilaian
B38: B. | C38: Penilaian oleh peserta didik
C39: 12 | D39: Dilaksanakannya penilaian melalui penilaian diri dan penilaian antar teman
C40: 13 | D40: Instrumen penilaian yang digunakan sesuai dengan kaidah
C41: 14 | D41: Terdokumentasikannya hasil penilaian oleh peserta didik. | J41: V
B42: JUMLAH
B43: NILAI
B44: PREDIKAT | H44: =IF(K43>90,"Amat Baik",IF(K43>75,"Baik",IF(K43>60,"Cukup","Tidak Baik"))) -> Tidak Baik
B45: TEMUAN/KESIMPULAN
B46: 1
B47: 2
B48: 3
B49: 4
B50: 5
B51: 6
B53: SARAN/REKOMENDASI
B54: 1
B55: 2
B56: 3
G58: =DATA!F13 -> 0 | I58: =DATA!F14 -> 0
B59: Guru yang Dinilai, | G59: Pengawas Sekolah,
B66: =DATA!F6 -> 0 | G66: =DATA!F11 -> 0
B67: ="NIP. "&DATA!F7 -> NIP. | G67: ="NIP. "&DATA!F12 -> NIP.
F68: Mengetahui :
F69: Kepala Sekolah,
F75: =DATA!F9 -> 0
F76: ="NIP. "&DATA!F10 -> NIP.

Sheet Sheet1
B1: PEMERINTAH KABUPATEN KARAWANG
B2: DINAS PENDIDIKAN PEMUDA DAN OLAH RAGA
B3: KABUPATEN KARAWANG
B4: Jalan Surotokunto no. 72 Karawang Kode POS. 41313 Tlp. (0267) 402504 , 405215
B8: MONITORING PELAKSANAAN PENILAIAN
B9: =DATA!B4 -> TAHUN PELAJARAN 2022/ 2023
B12: NAMA SEKOLAH | E12: : | F12: =DATA!F5 -> 0
B14: NAMA GURU | E14: : | F14: =DATA!F6 -> 0
B16: NIP | E16: : | F16: =DATA!F7 -> 0
B18: HARI, TANGGAL | E18: : | F18: =DATA!F8 -> 0
D20: Isilah dengan tanda V pada kolom Kondisi sesuai dengan penilaian
B21: NO | C21: BUTIR SUPERVISI | G21: KONDISI | K21: SKOR
G22: 0 | H22: 1 | I22: 2 | J22: 3
B23: A. | C23: Penilaian oleh guru | K23: =SUM(K24+K28+K33)/3 -> 0
B24: 1 | C24: Penilaian kompetensi sikap | K24: =SUM(K25:K27)/9*100 -> 0
C25: 1 | D25: Terlaksananya penilaian sikap selama proses pembelajaran dengan teknik observasi dan jurnal. | K25: =IF(J25="V",3,IF(I25="V",2,IF(H25="V",1,IF(G25="V",0,""))))
C26: 2 | D26: Instrumen penilaian sikap yang digunakan sesuai dengan kaidah | K26: =IF(J26="V",3,IF(I26="V",2,IF(H26="V",1,IF(G26="V",0,""))))
C27: 3 | D27: Terdokumentasikannya hasil penilaian kompetensi sikap. | K27: =IF(J27="V",3,IF(I27="V",2,IF(H27="V",1,IF(G27="V",0,""))))
B28: 2 | C28: Penilaian pengetahuan | K28: =SUM(K29:K32)/12*100 -> 0
C29: 4 | D29: Terlaksananya penilaian pengetahuan dengan tes lisan, tes tulis, dan penugasan | K29: =IF(J29="V",3,IF(I29="V",2,IF(H29="V",1,IF(G29="V",0,""))))
C30: 5 | D30: Instrumen penilaian yang digunakan sesuai dengan kaidah | K30: =IF(J30="V",3,IF(I30="V",2,IF(H30="V",1,IF(G30="V",0,""))))
C31: 6 | D31: Tersedia rubrik penilaian untuk masing-masing instrumen | K31: =IF(J31="V",3,IF(I31="V",2,IF(H31="V",1,IF(G31="V",0,""))))
C32: 7 | D32: Terdokumentasikannya hasil penilaian penguasaan pengetahuan. | K32: =IF(J32="V",3,IF(I32="V",2,IF(H32="V",1,IF(G32="V",0,""))))
B33: 3 | C33: Penilaian keterampilan | K33: =SUM(K34:K37)/12*100 -> 0
C34: 8 | D34: Terlaksananya penilaian keterampilan dengan praktik, projek, dan portofolio | K34: =IF(J34="V",3,IF(I34="V",2,IF(H34="V",1,IF(G34="V",0,""))))
C35: 9 | D35: Instrumen penilaian yang digunakan sesuai dengan kaidah | K35: =IF(J35="V",3,IF(I35="V",2,IF(H35="V",1,IF(G35="V",0,""))))
C36: 10 | D36: Tersedia rubrik penilaian untuk masing-masing instrumen | K36: =IF(J36="V",3,IF(I36="V",2,IF(H36="V",1,IF(G36="V",0,""))))
C37: 11 | D37: Terdokumentasikannya hasil penilaian keterampilan. | K37: =IF(J37="V",3,IF(I37="V",2,IF(H37="V",1,IF(G37="V",0,""))))
B38: B. | C38: Penilaian oleh siswa | K38: =SUM(K39:K41)/9*100 -> 100
C39: 12 | D39: Dilaksanakannya penilaian melalui penilaian diri dan penilaian antar teman | J39: V | K39: =IF(J39="V",3,IF(I39="V",2,IF(H39="V",1,IF(G39="V",0,"")))) -> 3
C40: 13 | D40: Instrumen penilaian yang digunakan sesuai dengan kaidah | J40: V | K40: =IF(J40="V",3,IF(I40="V",2,IF(H40="V",1,IF(G40="V",0,"")))) -> 3
C41: 14 | D41: Terdokumentasikannya hasil penilaian oleh siswa. | J41: V | K41: =IF(J41="V",3,IF(I41="V",2,IF(H41="V",1,IF(G41="V",0,"")))) -> 3
B42: JUMLAH | K42: =SUM(K24:K28:K32,K38) -> 100
B43: NILAI | K43: =+K42/4 -> 25
B44: PREDIKAT | H44: =IF(K43>90,"Amat Baik",IF(K43>75,"Baik",IF(K43>60,"Cukup","Tidak Baik"))) -> Tidak Baik
B45: TEMUAN/KESIMPULAN
B46: 1
B47: 2
B48: 3
B49: 4
B50: 5
B51: 6
B53: SARAN/REKOMENDASI
B54: 1
B55: 2
B56: 3
G58: =DATA!F13 -> 0 | I58: =DATA!F14 -> 0
B59: Guru yang Dinilai, | G59: Pengawas Sekolah,
B66: =DATA!F6 -> 0 | G66: =DATA!F11 -> 0
B67: ="NIP. "&DATA!F7 -> NIP. | G67: ="NIP. "&DATA!F12 -> NIP.
F68: Mengetahui :
F69: Kepala Sekolah,
F75: =DATA!F9 -> 0
F76: ="NIP. "&DATA!F10 -> NIP.
